BEGIN:VCALENDAR
VERSION:2.0
PRODID:-//eventon.com NONSGML v1.0//EN
CALSCALE:GREGORIAN
METHOD:PUBLISH
BEGIN:VEVENT
UID:69e4cb8ca4ac9
DTSTAMP:20260419T123316Z
DTSTART:20241203T200000Z
DTEND:20241204T170000Z
LOCATION:
SUMMARY:VIEW MUNICH
DESCRIPTION:\nhttps://www.pontetorto.it/events/view-munich/
URL:https://www.pontetorto.it/events/view-munich/
END:VEVENT
END:VCALENDAR