BEGIN:VCALENDAR
VERSION:2.0
PRODID:-//eventon.com NONSGML v1.0//EN
CALSCALE:GREGORIAN
METHOD:PUBLISH
BEGIN:VEVENT
UID:69e71abdb255c
DTSTAMP:20260421T063541Z
DTSTART:20250305T200000Z
DTEND:20250307T060000Z
LOCATION:
SUMMARY:PERFORMANCE DAYS MONACO
DESCRIPTION:\nhttps://www.pontetorto.it/events/performance-days-monaco-2/
URL:https://www.pontetorto.it/events/performance-days-monaco-2/
END:VEVENT
END:VCALENDAR